Package: atSNP Version: 1.26.0 Command: /Library/Frameworks/R.framework/Resources/bin/R CMD INSTALL atSNP StartedAt: 2025-11-03 15:27:50 -0500 (Mon, 03 Nov 2025) EndedAt: 2025-11-03 15:28:12 -0500 (Mon, 03 Nov 2025) EllapsedTime: 21.3 seconds RetCode: 0 Status: OK