Package: atSNP Version: 1.26.0 Command: /Library/Frameworks/R.framework/Resources/bin/R CMD build --keep-empty-dirs --no-resave-data atSNP StartedAt: 2025-10-31 15:43:32 -0400 (Fri, 31 Oct 2025) EndedAt: 2025-10-31 15:44:03 -0400 (Fri, 31 Oct 2025) EllapsedTime: 31.3 seconds RetCode: 0 Status: OK PackageFile: atSNP_1.26.0.tar.gz PackageFileSize: 1.029 MiB