Package: assorthead Version: 1.4.0 Command: /home/biocbuild/bbs-3.22-bioc/R/bin/R CMD INSTALL assorthead StartedAt: 2025-11-13 15:02:25 -0500 (Thu, 13 Nov 2025) EndedAt: 2025-11-13 15:02:33 -0500 (Thu, 13 Nov 2025) EllapsedTime: 8.1 seconds RetCode: 0 Status: OK