Package: assorthead Version: 1.4.0 Command: /Library/Frameworks/R.framework/Resources/bin/R CMD build --keep-empty-dirs --no-resave-data assorthead StartedAt: 2025-11-10 15:39:01 -0500 (Mon, 10 Nov 2025) EndedAt: 2025-11-10 15:39:05 -0500 (Mon, 10 Nov 2025) EllapsedTime: 4.0 seconds RetCode: 0 Status: OK PackageFile: assorthead_1.4.0.tar.gz PackageFileSize: 1.801 MiB