Package: assorthead Version: 1.4.0 Command: rm -rf assorthead.buildbin-libdir && mkdir assorthead.buildbin-libdir && /Users/biocbuild/BBS/utils/build-universal.sh assorthead_1.4.0.tar.gz /Library/Frameworks/R.framework/Resources/bin/R assorthead.buildbin-libdir StartedAt: 2025-11-10 23:11:30 -0500 (Mon, 10 Nov 2025) EndedAt: 2025-11-10 23:11:33 -0500 (Mon, 10 Nov 2025) EllapsedTime: 3.1 seconds RetCode: 0 Status: OK PackageFile: assorthead_1.4.0.tgz PackageFileSize: 1.833 MiB