Package: artMS Version: 1.28.0 Command: /home/biocbuild/bbs-3.22-bioc/R/bin/R CMD INSTALL artMS StartedAt: 2025-11-11 15:30:13 -0500 (Tue, 11 Nov 2025) EndedAt: 2025-11-11 15:30:43 -0500 (Tue, 11 Nov 2025) EllapsedTime: 30.7 seconds RetCode: 0 Status: OK