Package: artMS Version: 1.28.0 Command: /home/biocbuild/bbs-3.22-bioc/R/bin/R CMD build --keep-empty-dirs --no-resave-data --md5 artMS StartedAt: 2025-11-11 16:18:56 -0500 (Tue, 11 Nov 2025) EndedAt: 2025-11-11 16:19:54 -0500 (Tue, 11 Nov 2025) EllapsedTime: 58.1 seconds RetCode: 0 Status: OK PackageFile: artMS_1.28.0.tar.gz PackageFileSize: 3.987 MiB