Package: artMS Version: 1.28.0 Command: rm -rf artMS.buildbin-libdir && mkdir artMS.buildbin-libdir && /Users/biocbuild/BBS/utils/build-universal.sh artMS_1.28.0.tar.gz /Library/Frameworks/R.framework/Resources/bin/R artMS.buildbin-libdir StartedAt: 2025-11-10 23:11:22 -0500 (Mon, 10 Nov 2025) EndedAt: 2025-11-10 23:11:36 -0500 (Mon, 10 Nov 2025) EllapsedTime: 13.3 seconds RetCode: 0 Status: OK PackageFile: artMS_1.28.0.tgz PackageFileSize: 3.33 MiB