Package: arrayQualityMetrics Version: 3.66.0 Command: /home/biocbuild/R/R/bin/R CMD INSTALL arrayQualityMetrics StartedAt: 2025-11-10 21:38:53 -0000 (Mon, 10 Nov 2025) EndedAt: 2025-11-10 21:39:28 -0000 (Mon, 10 Nov 2025) EllapsedTime: 35.3 seconds RetCode: 0 Status: OK