Package: arrayQualityMetrics Version: 3.66.0 Command: /home/biocbuild/bbs-3.22-bioc/R/bin/R CMD check --install=check:arrayQualityMetrics.install-out.txt --library=/home/biocbuild/bbs-3.22-bioc/R/site-library --timings arrayQualityMetrics_3.66.0.tar.gz StartedAt: 2025-11-11 21:14:27 -0500 (Tue, 11 Nov 2025) EndedAt: 2025-11-11 21:24:12 -0500 (Tue, 11 Nov 2025) EllapsedTime: 585.1 seconds RetCode: 0 Status: OK CheckDir: arrayQualityMetrics.Rcheck Warnings: 0