Package: arrayQualityMetrics Version: 3.66.0 Command: /home/biocbuild/bbs-3.22-bioc/R/bin/R CMD build --keep-empty-dirs --no-resave-data --md5 arrayQualityMetrics StartedAt: 2025-11-11 16:18:15 -0500 (Tue, 11 Nov 2025) EndedAt: 2025-11-11 16:26:02 -0500 (Tue, 11 Nov 2025) EllapsedTime: 467.4 seconds RetCode: 0 Status: OK PackageFile: arrayQualityMetrics_3.66.0.tar.gz PackageFileSize: 598.3 KiB