Package: arrayQuality Version: 1.88.0 Command: /home/biocbuild/R/R/bin/R CMD INSTALL arrayQuality StartedAt: 2025-11-13 21:06:02 -0000 (Thu, 13 Nov 2025) EndedAt: 2025-11-13 21:06:39 -0000 (Thu, 13 Nov 2025) EllapsedTime: 37.2 seconds RetCode: 0 Status: OK