Package: arrayQuality Version: 1.88.0 Command: /home/biocbuild/R/R/bin/R CMD check --install=check:arrayQuality.install-out.txt --library=/home/biocbuild/R/R/site-library --no-vignettes --timings arrayQuality_1.88.0.tar.gz StartedAt: 2025-11-14 06:46:55 -0000 (Fri, 14 Nov 2025) EndedAt: 2025-11-14 06:47:49 -0000 (Fri, 14 Nov 2025) EllapsedTime: 54.1 seconds RetCode: 0 Status: WARNINGS CheckDir: arrayQuality.Rcheck Warnings: 1