Package: arrayQuality Version: 1.88.0 Command: /home/biocbuild/bbs-3.22-bioc/R/bin/R CMD check --install=check:arrayQuality.install-out.txt --library=/home/biocbuild/bbs-3.22-bioc/R/site-library --timings arrayQuality_1.88.0.tar.gz StartedAt: 2025-11-13 21:12:30 -0500 (Thu, 13 Nov 2025) EndedAt: 2025-11-13 21:13:04 -0500 (Thu, 13 Nov 2025) EllapsedTime: 34.0 seconds RetCode: 0 Status: WARNINGS CheckDir: arrayQuality.Rcheck Warnings: 1