Package: arrayQuality Version: 1.86.0 Command: /home/biocbuild/R/R/bin/R CMD check --install=check:arrayQuality.install-out.txt --library=/home/biocbuild/R/R/site-library --no-vignettes --timings arrayQuality_1.86.0.tar.gz StartedAt: 2025-10-07 06:26:21 -0000 (Tue, 07 Oct 2025) EndedAt: 2025-10-07 06:27:04 -0000 (Tue, 07 Oct 2025) EllapsedTime: 43.1 seconds RetCode: 0 Status: WARNINGS CheckDir: arrayQuality.Rcheck Warnings: 1