Package: arrayMvout Version: 1.68.0 Command: /home/biocbuild/R/R/bin/R CMD INSTALL arrayMvout StartedAt: 2025-11-10 22:13:11 -0000 (Mon, 10 Nov 2025) EndedAt: 2025-11-10 22:14:10 -0000 (Mon, 10 Nov 2025) EllapsedTime: 58.9 seconds RetCode: 0 Status: OK