Package: arrayMvout Version: 1.68.0 Command: /home/biocbuild/R/R/bin/R CMD build --keep-empty-dirs --no-resave-data arrayMvout StartedAt: 2025-11-10 23:29:24 -0000 (Mon, 10 Nov 2025) EndedAt: 2025-11-10 23:30:47 -0000 (Mon, 10 Nov 2025) EllapsedTime: 83.0 seconds RetCode: 0 Status: OK PackageFile: arrayMvout_1.68.0.tar.gz PackageFileSize: 684.4 KiB