Package: arrayMvout Version: 1.68.0 Command: /home/biocbuild/bbs-3.22-bioc/R/bin/R CMD INSTALL arrayMvout StartedAt: 2025-11-11 16:06:34 -0500 (Tue, 11 Nov 2025) EndedAt: 2025-11-11 16:07:18 -0500 (Tue, 11 Nov 2025) EllapsedTime: 44.6 seconds RetCode: 0 Status: OK