Package: arrayMvout Version: 1.68.0 Command: /home/biocbuild/bbs-3.22-bioc/R/bin/R CMD check --install=check:arrayMvout.install-out.txt --library=/home/biocbuild/bbs-3.22-bioc/R/site-library --timings arrayMvout_1.68.0.tar.gz StartedAt: 2025-11-11 21:13:55 -0500 (Tue, 11 Nov 2025) EndedAt: 2025-11-11 21:19:23 -0500 (Tue, 11 Nov 2025) EllapsedTime: 327.3 seconds RetCode: 0 Status: OK CheckDir: arrayMvout.Rcheck Warnings: 0