Package: arrayMvout Version: 1.66.0 Command: /home/biocbuild/bbs-3.21-bioc/R/bin/R CMD INSTALL arrayMvout StartedAt: 2025-09-28 16:15:53 -0400 (Sun, 28 Sep 2025) EndedAt: 2025-09-28 16:16:37 -0400 (Sun, 28 Sep 2025) EllapsedTime: 44.4 seconds RetCode: 0 Status: OK