Package: arrayMvout Version: 1.66.0 Command: /home/biocbuild/bbs-3.21-bioc/R/bin/R CMD check --install=check:arrayMvout.install-out.txt --library=/home/biocbuild/bbs-3.21-bioc/R/site-library --timings arrayMvout_1.66.0.tar.gz StartedAt: 2025-10-05 20:50:56 -0400 (Sun, 05 Oct 2025) EndedAt: 2025-10-05 20:56:24 -0400 (Sun, 05 Oct 2025) EllapsedTime: 328.6 seconds RetCode: 0 Status: OK CheckDir: arrayMvout.Rcheck Warnings: 0