Package: arrayMvout Version: 1.66.0 Command: /Library/Frameworks/R.framework/Resources/bin/R CMD INSTALL arrayMvout StartedAt: 2025-09-25 18:36:56 -0400 (Thu, 25 Sep 2025) EndedAt: 2025-09-25 18:37:53 -0400 (Thu, 25 Sep 2025) EllapsedTime: 57.6 seconds RetCode: 0 Status: OK