Package: arrayMvout Version: 1.66.0 Command: /Library/Frameworks/R.framework/Resources/bin/R CMD check --install=check:arrayMvout.install-out.txt --library=/Library/Frameworks/R.framework/Resources/library --no-vignettes --timings arrayMvout_1.66.0.tar.gz StartedAt: 2025-10-03 12:46:53 -0400 (Fri, 03 Oct 2025) EndedAt: 2025-10-03 12:52:36 -0400 (Fri, 03 Oct 2025) EllapsedTime: 343.1 seconds RetCode: 0 Status: OK CheckDir: arrayMvout.Rcheck Warnings: 0