Package: aroma.light Version: 3.40.0 Command: /home/biocbuild/bbs-3.22-bioc/R/bin/R CMD INSTALL aroma.light StartedAt: 2025-11-20 15:54:15 -0500 (Thu, 20 Nov 2025) EndedAt: 2025-11-20 15:54:40 -0500 (Thu, 20 Nov 2025) EllapsedTime: 24.4 seconds RetCode: 0 Status: OK