Package: aroma.light Version: 3.40.0 Command: /home/biocbuild/bbs-3.22-bioc/R/bin/R CMD build --keep-empty-dirs --no-resave-data --md5 aroma.light StartedAt: 2025-11-20 17:06:02 -0500 (Thu, 20 Nov 2025) EndedAt: 2025-11-20 17:06:04 -0500 (Thu, 20 Nov 2025) EllapsedTime: 2.0 seconds RetCode: 0 Status: OK PackageFile: aroma.light_3.40.0.tar.gz PackageFileSize: 384.5 KiB