Package: appreci8R Version: 1.28.0 Command: /home/biocbuild/bbs-3.22-bioc/R/bin/R CMD INSTALL appreci8R StartedAt: 2025-11-17 18:18:22 -0500 (Mon, 17 Nov 2025) EndedAt: 2025-11-17 18:19:46 -0500 (Mon, 17 Nov 2025) EllapsedTime: 84.9 seconds RetCode: 0 Status: OK