Package: appreci8R Version: 1.28.0 Command: /home/biocbuild/bbs-3.22-bioc/R/bin/R CMD build --keep-empty-dirs --no-resave-data --md5 appreci8R StartedAt: 2025-11-17 19:25:15 -0500 (Mon, 17 Nov 2025) EndedAt: 2025-11-17 19:28:56 -0500 (Mon, 17 Nov 2025) EllapsedTime: 221.2 seconds RetCode: 0 Status: OK PackageFile: appreci8R_1.28.0.tar.gz PackageFileSize: 1014 KiB