Package: apeglm Version: 1.32.0 Command: /home/biocbuild/R/R/bin/R CMD INSTALL apeglm StartedAt: 2025-11-13 21:33:10 -0000 (Thu, 13 Nov 2025) EndedAt: 2025-11-13 21:34:31 -0000 (Thu, 13 Nov 2025) EllapsedTime: 81.2 seconds RetCode: 0 Status: OK