Package: apeglm Version: 1.32.0 Command: /home/biocbuild/R/R/bin/R CMD build --keep-empty-dirs --no-resave-data apeglm StartedAt: 2025-11-13 23:26:06 -0000 (Thu, 13 Nov 2025) EndedAt: 2025-11-13 23:28:29 -0000 (Thu, 13 Nov 2025) EllapsedTime: 143.0 seconds RetCode: 0 Status: OK PackageFile: apeglm_1.32.0.tar.gz PackageFileSize: 782.7 KiB