Package: apeglm Version: 1.32.0 Command: /home/biocbuild/bbs-3.22-bioc/R/bin/R CMD check --install=check:apeglm.install-out.txt --library=/home/biocbuild/bbs-3.22-bioc/R/site-library --timings apeglm_1.32.0.tar.gz StartedAt: 2025-11-11 21:13:22 -0500 (Tue, 11 Nov 2025) EndedAt: 2025-11-11 21:17:04 -0500 (Tue, 11 Nov 2025) EllapsedTime: 222.3 seconds RetCode: 0 Status: OK CheckDir: apeglm.Rcheck Warnings: 0