Package: apeglm Version: 1.30.0 Command: /home/biocbuild/bbs-3.21-bioc/R/bin/R CMD INSTALL apeglm StartedAt: 2025-10-08 15:29:59 -0400 (Wed, 08 Oct 2025) EndedAt: 2025-10-08 15:30:54 -0400 (Wed, 08 Oct 2025) EllapsedTime: 55.8 seconds RetCode: 0 Status: OK