Package: apeglm Version: 1.30.0 Command: /home/biocbuild/bbs-3.21-bioc/R/bin/R CMD build --keep-empty-dirs --no-resave-data apeglm StartedAt: 2025-10-08 16:12:02 -0400 (Wed, 08 Oct 2025) EndedAt: 2025-10-08 16:13:41 -0400 (Wed, 08 Oct 2025) EllapsedTime: 99.1 seconds RetCode: 0 Status: OK PackageFile: apeglm_1.30.0.tar.gz PackageFileSize: 1.203 MiB