Package: apeglm Version: 1.30.0 Command: /Library/Frameworks/R.framework/Resources/bin/R CMD INSTALL apeglm StartedAt: 2025-04-21 15:24:33 -0400 (Mon, 21 Apr 2025) EndedAt: 2025-04-21 15:25:36 -0400 (Mon, 21 Apr 2025) EllapsedTime: 63.4 seconds RetCode: 0 Status: OK