Package: apeglm Version: 1.30.0 Command: /Library/Frameworks/R.framework/Resources/bin/R CMD build --keep-empty-dirs --no-resave-data apeglm StartedAt: 2025-04-21 15:57:10 -0400 (Mon, 21 Apr 2025) EndedAt: 2025-04-21 15:58:57 -0400 (Mon, 21 Apr 2025) EllapsedTime: 106.3 seconds RetCode: 0 Status: OK PackageFile: apeglm_1.30.0.tar.gz PackageFileSize: 1.265 MiB