Package: apeglm Version: 1.30.0 Command: /Library/Frameworks/R.framework/Resources/bin/R CMD INSTALL apeglm StartedAt: 2025-10-06 16:49:34 -0400 (Mon, 06 Oct 2025) EndedAt: 2025-10-06 16:50:31 -0400 (Mon, 06 Oct 2025) EllapsedTime: 56.6 seconds RetCode: 0 Status: OK