Package: apeglm Version: 1.30.0 Command: rm -rf apeglm.buildbin-libdir && mkdir apeglm.buildbin-libdir && /Users/biocbuild/BBS/utils/build-universal.sh apeglm_1.30.0.tar.gz /Library/Frameworks/R.framework/Resources/bin/R apeglm.buildbin-libdir StartedAt: 2025-10-08 19:44:15 -0400 (Wed, 08 Oct 2025) EndedAt: 2025-10-08 19:45:22 -0400 (Wed, 08 Oct 2025) EllapsedTime: 66.8 seconds RetCode: 0 Status: OK PackageFile: apeglm_1.30.0.tgz PackageFileSize: 1.389 MiB