Package: apeglm Version: 1.30.0 Maintainer: Anqi Zhu MaintainerEmail: anqizhu at live.unc.edu git_url: https://git.bioconductor.org/packages/apeglm git_branch: RELEASE_3_21 git_last_commit: 0062b09 git_last_commit_date: 2025-04-15 11:14:01 -0400 (Tue, 15 Apr 2025)