Package: apComplex Version: 2.76.0 Command: /home/biocbuild/R/R/bin/R CMD INSTALL apComplex StartedAt: 2025-11-13 21:38:47 -0000 (Thu, 13 Nov 2025) EndedAt: 2025-11-13 21:39:06 -0000 (Thu, 13 Nov 2025) EllapsedTime: 19.8 seconds RetCode: 0 Status: OK