Package: apComplex Version: 2.76.0 Command: /home/biocbuild/R/R/bin/R CMD build --keep-empty-dirs --no-resave-data apComplex StartedAt: 2025-11-13 23:26:02 -0000 (Thu, 13 Nov 2025) EndedAt: 2025-11-13 23:26:28 -0000 (Thu, 13 Nov 2025) EllapsedTime: 26.0 seconds RetCode: 0 Status: OK PackageFile: apComplex_2.76.0.tar.gz PackageFileSize: 621.2 KiB