Package: apComplex Version: 2.75.0 Command: chmod a+r apComplex -R && F:\biocbuild\bbs-3.22-bioc\R\bin\R.exe CMD build --keep-empty-dirs --no-resave-data apComplex StartedAt: 2025-08-14 18:27:59 -0400 (Thu, 14 Aug 2025) EndedAt: 2025-08-14 18:28:35 -0400 (Thu, 14 Aug 2025) EllapsedTime: 36.1 seconds RetCode: 0 Status: OK PackageFile: apComplex_2.75.0.tar.gz PackageFileSize: 628.1 KiB