Package: apComplex Version: 2.76.0 Command: /home/biocbuild/bbs-3.22-bioc/R/bin/R CMD build --keep-empty-dirs --no-resave-data --md5 apComplex StartedAt: 2025-11-14 16:16:02 -0500 (Fri, 14 Nov 2025) EndedAt: 2025-11-14 16:16:23 -0500 (Fri, 14 Nov 2025) EllapsedTime: 21.0 seconds RetCode: 0 Status: OK PackageFile: apComplex_2.76.0.tar.gz PackageFileSize: 628.7 KiB