Package: apComplex Version: 2.74.0 Command: /Library/Frameworks/R.framework/Resources/bin/R CMD build --keep-empty-dirs --no-resave-data apComplex StartedAt: 2025-10-09 17:03:14 -0400 (Thu, 09 Oct 2025) EndedAt: 2025-10-09 17:04:03 -0400 (Thu, 09 Oct 2025) EllapsedTime: 48.6 seconds RetCode: 0 Status: OK PackageFile: apComplex_2.74.0.tar.gz PackageFileSize: 626.6 KiB