Package: apComplex Version: 2.74.0 Command: /Library/Frameworks/R.framework/Resources/bin/R CMD INSTALL apComplex StartedAt: 2025-09-25 15:51:10 -0400 (Thu, 25 Sep 2025) EndedAt: 2025-09-25 15:51:27 -0400 (Thu, 25 Sep 2025) EllapsedTime: 16.7 seconds RetCode: 0 Status: OK