Package: antiProfiles Version: 1.50.0 Command: /home/biocbuild/bbs-3.22-bioc/R/bin/R CMD INSTALL antiProfiles StartedAt: 2025-11-06 15:03:22 -0500 (Thu, 06 Nov 2025) EndedAt: 2025-11-06 15:03:36 -0500 (Thu, 06 Nov 2025) EllapsedTime: 14.4 seconds RetCode: 0 Status: OK