Package: antiProfiles Version: 1.50.0 Command: /home/biocbuild/bbs-3.22-bioc/R/bin/R CMD build --keep-empty-dirs --no-resave-data --md5 antiProfiles StartedAt: 2025-11-06 16:14:21 -0500 (Thu, 06 Nov 2025) EndedAt: 2025-11-06 16:14:28 -0500 (Thu, 06 Nov 2025) EllapsedTime: 7.0 seconds RetCode: 0 Status: OK PackageFile: antiProfiles_1.50.0.tar.gz PackageFileSize: 111.5 KiB