Package: anota2seq Version: 1.32.0 Command: /home/biocbuild/bbs-3.22-bioc/R/bin/R CMD INSTALL anota2seq StartedAt: 2025-10-31 15:30:18 -0400 (Fri, 31 Oct 2025) EndedAt: 2025-10-31 15:30:54 -0400 (Fri, 31 Oct 2025) EllapsedTime: 35.7 seconds RetCode: 0 Status: OK