Package: anota Version: 1.58.0 Command: /home/biocbuild/bbs-3.22-bioc/R/bin/R CMD INSTALL anota StartedAt: 2025-10-31 15:20:30 -0400 (Fri, 31 Oct 2025) EndedAt: 2025-10-31 15:20:40 -0400 (Fri, 31 Oct 2025) EllapsedTime: 10.1 seconds RetCode: 0 Status: OK