Package: annotatr Version: 1.36.0 Command: /home/biocbuild/R/R/bin/R CMD INSTALL annotatr StartedAt: 2025-11-10 21:50:26 -0000 (Mon, 10 Nov 2025) EndedAt: 2025-11-10 21:51:24 -0000 (Mon, 10 Nov 2025) EllapsedTime: 57.5 seconds RetCode: 0 Status: OK