Package: annotatr Version: 1.36.0 Command: /home/biocbuild/R/R/bin/R CMD build --keep-empty-dirs --no-resave-data annotatr StartedAt: 2025-11-10 23:26:29 -0000 (Mon, 10 Nov 2025) EndedAt: 2025-11-10 23:30:08 -0000 (Mon, 10 Nov 2025) EllapsedTime: 219.1 seconds RetCode: 0 Status: OK PackageFile: annotatr_1.36.0.tar.gz PackageFileSize: 2.1 MiB