Package: annotatr Version: 1.34.0 Command: E:\biocbuild\bbs-3.21-bioc\R\bin\R.exe CMD INSTALL annotatr StartedAt: 2025-08-14 16:47:43 -0400 (Thu, 14 Aug 2025) EndedAt: 2025-08-14 16:48:45 -0400 (Thu, 14 Aug 2025) EllapsedTime: 62.2 seconds RetCode: 0 Status: OK